BEGIN:VCALENDAR
VERSION:2.0
PRODID:-//hacksw/handcal//NONSGML v1.0//EN
BEGIN:VEVENT
SUMMARY:Sortie Bloc Fontainebleau - Jeunes a partir de 9 ans
UID:574c2694-00f5-444f-857b-ba4a95bd7ed5
DTSTART:20260524T070000Z
DTEND:20260524T160000Z
LOCATION:Localisation   
CATEGORIES:Sportif
STATUS:
DESCRIPTION:<p>Nicolas Royer, diplome d'Etat et moniteur au Club
 ASM-Escalade, vous propose une sortie escalade sur les rochers de la
 foret de Fontaibleau.</p>
 
 <p>Elle est ouverte a tous niveaux,
 enfants a partir 9 ans minimum</p>
 
 <p>Tarif : gratuite pour les
 membres du club, 25 € pour les exterieurs. 14 personnes maximum.
 Inscription obligatoire avec le formulaire ci
 dessous.</p>
 
 <p>Possibilite de passage du passeport vert pour ceux
 qui ont deja fait la partie falaise.</p>
 
 <p>La sortie peut etre
 annulee en cas de pluie ou de participation insuffisante. Merci de
 vous inscrire au plus vite pour faciliter
 l'organisation.</p>
 
 <p>Depart : 9h au gymnase Pierre & Marie Curie
 (parking cote Foret), transport assure par
 covoiturage.</p>
 
 <p>Retour : vers 17h-17h30</p>
URL;VALUE=URI:https://www.asm-escalade.com/evenements/2026/05/24/sortie-bloc-fontainebleau-jeunes-a-partir-de-9-ans-2437868
END:VEVENT
END:VCALENDAR
